BEGIN:VCALENDAR
VERSION:2.0
PRODID:-//Hungarian Council of New South Wales - ECPv6.15.20//NONSGML v1.0//EN
CALSCALE:GREGORIAN
METHOD:PUBLISH
X-WR-CALNAME:Hungarian Council of New South Wales
X-ORIGINAL-URL:https://hungariancouncilnsw.com.au/hu
X-WR-CALDESC:Események Hungarian Council of New South Wales
REFRESH-INTERVAL;VALUE=DURATION:PT1H
X-Robots-Tag:noindex
X-PUBLISHED-TTL:PT1H
BEGIN:VTIMEZONE
TZID:Australia/Sydney
BEGIN:STANDARD
TZOFFSETFROM:+1100
TZOFFSETTO:+1000
TZNAME:AEST
DTSTART:20250405T160000
END:STANDARD
BEGIN:DAYLIGHT
TZOFFSETFROM:+1000
TZOFFSETTO:+1100
TZNAME:AEDT
DTSTART:20251004T160000
END:DAYLIGHT
BEGIN:STANDARD
TZOFFSETFROM:+1100
TZOFFSETTO:+1000
TZNAME:AEST
DTSTART:20260404T160000
END:STANDARD
BEGIN:DAYLIGHT
TZOFFSETFROM:+1000
TZOFFSETTO:+1100
TZNAME:AEDT
DTSTART:20261003T160000
END:DAYLIGHT
BEGIN:STANDARD
TZOFFSETFROM:+1100
TZOFFSETTO:+1000
TZNAME:AEST
DTSTART:20270403T160000
END:STANDARD
BEGIN:DAYLIGHT
TZOFFSETFROM:+1000
TZOFFSETTO:+1100
TZNAME:AEDT
DTSTART:20271002T160000
END:DAYLIGHT
END:VTIMEZONE
BEGIN:VEVENT
DTSTART;TZID=Australia/Sydney:20260426T080000
DTEND;TZID=Australia/Sydney:20260426T170000
DTSTAMP:20260425T060550
CREATED:20260414T060404Z
LAST-MODIFIED:20260414T060407Z
UID:10002432-1777190400-1777222800@hungariancouncilnsw.com.au
SUMMARY:Radio Mozaik Sydney
DESCRIPTION:The Hungarian Radio Mozaik Sydney’s program can be heard live every Sunday from 11:00 a.m. to 1:00 p.m. on 2RRR FM 88.5 in Sydney or online. \n\n\n\nLIVE BROADCAST HERE: 2rrr.org.au \n\n\n\nFor more information\, please visit https://www.radiomozaiksydney.com.au/
URL:https://hungariancouncilnsw.com.au/hu/event/radio-mozaik-sydney/2026-04-26/
LOCATION:Radio Mozaik Sydney\, Hungarian Program 2RRR\, PO BOX 644\, Gladesville\, Sydney\, NSW\, 1675\, Australia
ATTACH;FMTTYPE=image/jpeg:https://hungariancouncilnsw.com.au/wp-content/uploads/2026/04/radio.jpg
ORGANIZER;CN="Radio Mozaik Sydney":MAILTO:sydneyradiomozaik@gmail.com
END:VEVENT
BEGIN:VEVENT
DTSTART;TZID=Australia/Sydney:20260426T110000
DTEND;TZID=Australia/Sydney:20260426T120000
DTSTAMP:20260425T060550
CREATED:20260323T013401Z
LAST-MODIFIED:20260324T044600Z
UID:10000270-1777201200-1777204800@hungariancouncilnsw.com.au
SUMMARY:Catholic Holy Mass
DESCRIPTION:Join us for the Holy Mass held by the Catholic Community at St Elizabeth Home every Sunday at 11 am.
URL:https://hungariancouncilnsw.com.au/hu/event/830/2026-04-26/
LOCATION:St Elizabeth Home\, 1 Symonds Road\, Dean Park\, NSW\, 2761\, Australia
CATEGORIES:Church
ATTACH;FMTTYPE=image/jpeg:https://hungariancouncilnsw.com.au/wp-content/uploads/2026/03/61rbb5nxuuw.jpg
END:VEVENT
BEGIN:VEVENT
DTSTART;TZID=Australia/Sydney:20260426T113000
DTEND;TZID=Australia/Sydney:20260426T123000
DTSTAMP:20260425T060550
CREATED:20260323T043112Z
LAST-MODIFIED:20260324T045104Z
UID:10000531-1777203000-1777206600@hungariancouncilnsw.com.au
SUMMARY:Reformed Church Worship Service
DESCRIPTION:Join us for a Worship Service with the Sydney Hungarian Reformed Church every Sunday at 11:30 am.
URL:https://hungariancouncilnsw.com.au/hu/event/reformed-church-worship-service/2026-04-26/
LOCATION:Uniting Church Strathfield\, 11 Carrington Avenue\, Strathfield\, NSW\, 2135\, Australia
CATEGORIES:Church
ATTACH;FMTTYPE=image/jpeg:https://hungariancouncilnsw.com.au/wp-content/uploads/2026/03/d6a2yzt-jwo.jpg
ORGANIZER;CN="Sydney Magyar Reform%C3%A1tus Egyh%C3%A1z":MAILTO:mresydney@yahoo.com.au
END:VEVENT
BEGIN:VEVENT
DTSTART;TZID=Australia/Sydney:20260429T140000
DTEND;TZID=Australia/Sydney:20260429T150000
DTSTAMP:20260425T060550
CREATED:20260323T043618Z
LAST-MODIFIED:20260324T045902Z
UID:10000793-1777471200-1777474800@hungariancouncilnsw.com.au
SUMMARY:Bible Study
DESCRIPTION:Join us for Bible Studies every Wednesday with the Sydney Református Egyház at 2 pm.
URL:https://hungariancouncilnsw.com.au/hu/event/bible-study/2026-04-29/
LOCATION:St Elizabeth Home\, 1 Symonds Road\, Dean Park\, NSW\, 2761\, Australia
CATEGORIES:Church,Social Event
ATTACH;FMTTYPE=image/jpeg:https://hungariancouncilnsw.com.au/wp-content/uploads/2026/03/l4gw27xzn1i.jpg
ORGANIZER;CN="Sydney Magyar Reform%C3%A1tus Egyh%C3%A1z":MAILTO:mresydney@yahoo.com.au
END:VEVENT
BEGIN:VEVENT
DTSTART;TZID=Australia/Sydney:20260429T193000
DTEND;TZID=Australia/Sydney:20260429T213000
DTSTAMP:20260425T060550
CREATED:20260323T044323Z
LAST-MODIFIED:20260324T045518Z
UID:10002099-1777491000-1777498200@hungariancouncilnsw.com.au
SUMMARY:Kengugró Dance lessons
DESCRIPTION:Join us for the Kungugró dance lessons every Wednesday at 7:30pm at Clemton Hall\, corner of Miller St and Dunkirk Ave\, Kingsgrove.  \n\n\n\nDrinks at the Bexley North Hotel afterwards.
URL:https://hungariancouncilnsw.com.au/hu/event/kengugro-dance-lessons/2026-04-29/
LOCATION:Clemton Park Uniting Church Hall\, 2-6 Dunkirk Ave\, Kingsgrove\, NSW\, 2208\, Australia
ATTACH;FMTTYPE=image/jpeg:https://hungariancouncilnsw.com.au/wp-content/uploads/2026/03/vlu1gktcbek.jpg
ORGANIZER;CN="Kengugr%C3%B3 T%C3%A1nccsoport":MAILTO:kengugro@hotmail.com
END:VEVENT
BEGIN:VEVENT
DTSTART;TZID=Australia/Sydney:20260502T090000
DTEND;TZID=Australia/Sydney:20260502T120000
DTSTAMP:20260425T060550
CREATED:20260415T040329Z
LAST-MODIFIED:20260415T040329Z
UID:10002712-1777712400-1777723200@hungariancouncilnsw.com.au
SUMMARY:Hungarian School
DESCRIPTION:Join us and bring your children for a Saturday morning spent with the Hungarian School.  \n\n\n\nFor any inquiries\, pleace contact info@magyariskola.com.au
URL:https://hungariancouncilnsw.com.au/hu/event/hungarian-school/2026-05-02/
LOCATION:Homebush West Public School\, 20 Exeter Rd\, Homebush West\, NSW\, 2140\, Australia
ATTACH;FMTTYPE=image/jpeg:https://hungariancouncilnsw.com.au/wp-content/uploads/2026/03/suli9-1.jpg
ORGANIZER;CN="Hungarian School Sydney":MAILTO:info@magyariskola.com.au
END:VEVENT
BEGIN:VEVENT
DTSTART;TZID=Australia/Sydney:20260502T140000
DTEND;TZID=Australia/Sydney:20260502T170000
DTSTAMP:20260425T060550
CREATED:20260415T035605Z
LAST-MODIFIED:20260415T035605Z
UID:10002695-1777730400-1777741200@hungariancouncilnsw.com.au
SUMMARY:Scout Activity
DESCRIPTION:Join us and bring your children for a Hungarian Scout Activity afternoon.  \n\n\n\nFor any inquiry\, please write to 3066cserkesz@gmail.com
URL:https://hungariancouncilnsw.com.au/hu/event/scout-activity/2026-05-02/
LOCATION:Scout Hall Central Park – Concord\, Wellbank St\, Concord\, NSW\, 2137\, Australia
ATTACH;FMTTYPE=image/jpeg:https://hungariancouncilnsw.com.au/wp-content/uploads/2026/03/7rimz-goqfq.jpg
ORGANIZER;CN="Hungarian Scouts Sydney":MAILTO:3066cserkesz@gmail.com
END:VEVENT
BEGIN:VEVENT
DTSTART;TZID=Australia/Sydney:20260502T170000
DTEND;TZID=Australia/Sydney:20260502T200000
DTSTAMP:20260425T060550
CREATED:20260414T010020Z
LAST-MODIFIED:20260414T015023Z
UID:10002367-1777741200-1777752000@hungariancouncilnsw.com.au
SUMMARY:Caritas Holy Mass and Family Dinner
DESCRIPTION:Join us every first Saturday of the month for a Caritas Holy Mass and Family Dinner—a warm and welcoming gathering of faith\, community\, and shared table. \n\n\n\nCome together\, connect\, and be part of something meaningful.
URL:https://hungariancouncilnsw.com.au/hu/event/caritas-holy-mass-and-family-dinner/2026-05-02/
LOCATION:St Elizabeth Caritas Ashfield\, 120 Parramatta Road\, Ashfield\, Sydney\, NSW\, 2131\, Australia
END:VEVENT
BEGIN:VEVENT
DTSTART;TZID=Australia/Sydney:20260503T080000
DTEND;TZID=Australia/Sydney:20260503T170000
DTSTAMP:20260425T060550
CREATED:20260414T060404Z
LAST-MODIFIED:20260414T060407Z
UID:10002433-1777795200-1777827600@hungariancouncilnsw.com.au
SUMMARY:Radio Mozaik Sydney
DESCRIPTION:The Hungarian Radio Mozaik Sydney’s program can be heard live every Sunday from 11:00 a.m. to 1:00 p.m. on 2RRR FM 88.5 in Sydney or online. \n\n\n\nLIVE BROADCAST HERE: 2rrr.org.au \n\n\n\nFor more information\, please visit https://www.radiomozaiksydney.com.au/
URL:https://hungariancouncilnsw.com.au/hu/event/radio-mozaik-sydney/2026-05-03/
LOCATION:Radio Mozaik Sydney\, Hungarian Program 2RRR\, PO BOX 644\, Gladesville\, Sydney\, NSW\, 1675\, Australia
ATTACH;FMTTYPE=image/jpeg:https://hungariancouncilnsw.com.au/wp-content/uploads/2026/04/radio.jpg
ORGANIZER;CN="Radio Mozaik Sydney":MAILTO:sydneyradiomozaik@gmail.com
END:VEVENT
BEGIN:VEVENT
DTSTART;TZID=Australia/Sydney:20260503T110000
DTEND;TZID=Australia/Sydney:20260503T120000
DTSTAMP:20260425T060550
CREATED:20260323T013401Z
LAST-MODIFIED:20260324T044600Z
UID:10000271-1777806000-1777809600@hungariancouncilnsw.com.au
SUMMARY:Catholic Holy Mass
DESCRIPTION:Join us for the Holy Mass held by the Catholic Community at St Elizabeth Home every Sunday at 11 am.
URL:https://hungariancouncilnsw.com.au/hu/event/830/2026-05-03/
LOCATION:St Elizabeth Home\, 1 Symonds Road\, Dean Park\, NSW\, 2761\, Australia
CATEGORIES:Church
ATTACH;FMTTYPE=image/jpeg:https://hungariancouncilnsw.com.au/wp-content/uploads/2026/03/61rbb5nxuuw.jpg
END:VEVENT
BEGIN:VEVENT
DTSTART;TZID=Australia/Sydney:20260503T113000
DTEND;TZID=Australia/Sydney:20260503T123000
DTSTAMP:20260425T060550
CREATED:20260323T043112Z
LAST-MODIFIED:20260324T045104Z
UID:10000532-1777807800-1777811400@hungariancouncilnsw.com.au
SUMMARY:Reformed Church Worship Service
DESCRIPTION:Join us for a Worship Service with the Sydney Hungarian Reformed Church every Sunday at 11:30 am.
URL:https://hungariancouncilnsw.com.au/hu/event/reformed-church-worship-service/2026-05-03/
LOCATION:Uniting Church Strathfield\, 11 Carrington Avenue\, Strathfield\, NSW\, 2135\, Australia
CATEGORIES:Church
ATTACH;FMTTYPE=image/jpeg:https://hungariancouncilnsw.com.au/wp-content/uploads/2026/03/d6a2yzt-jwo.jpg
ORGANIZER;CN="Sydney Magyar Reform%C3%A1tus Egyh%C3%A1z":MAILTO:mresydney@yahoo.com.au
END:VEVENT
BEGIN:VEVENT
DTSTART;TZID=Australia/Sydney:20260503T113000
DTEND;TZID=Australia/Sydney:20260503T123000
DTSTAMP:20260425T060550
CREATED:20260407T063133Z
LAST-MODIFIED:20260407T063137Z
UID:10002357-1777807800-1777811400@hungariancouncilnsw.com.au
SUMMARY:Mother's Day Worship Sercive and Family Day - 76th Anniversary
DESCRIPTION:Join us for a special celebration hosted by the Sydney Hungarian Reformed Church! \n\n\n\nWe warmly invite you to our Mother’s Day worship service\, where we give thanks for mothers and all who care with love\, followed by a joyful Family Day full of fellowship and community spirit. \n\n\n\nThis year is extra special as we celebrate the 76th anniversary of our church. \n\n\n\nBring your family and friends—everyone is welcome!
URL:https://hungariancouncilnsw.com.au/hu/event/mothers-day-worship-sercive-and-family-day-76th-anniversary/
LOCATION:Uniting Church Strathfield\, 11 Carrington Avenue\, Strathfield\, NSW\, 2135\, Australia
ATTACH;FMTTYPE=image/jpeg:https://hungariancouncilnsw.com.au/wp-content/uploads/2026/04/6955483.jpeg
ORGANIZER;CN="Sydney Magyar Reform%C3%A1tus Egyh%C3%A1z":MAILTO:mresydney@yahoo.com.au
END:VEVENT
BEGIN:VEVENT
DTSTART;TZID=Australia/Sydney:20260503T120000
DTEND;TZID=Australia/Sydney:20260503T130000
DTSTAMP:20260425T060550
CREATED:20260407T230511Z
LAST-MODIFIED:20260407T230513Z
UID:10002358-1777809600-1777813200@hungariancouncilnsw.com.au
SUMMARY:Mother's Day celebration at DMSZ
DESCRIPTION:Join us for a heartfelt Mother’s Day celebration filled with warmth\, gratitude\, and togetherness. \n\n\n\nCome along to honour and appreciate the incredible mothers and caregivers in our lives\, and enjoy a joyful time with family and community. \n\n\n\nBring your loved ones and celebrate with us—we’d love to see you there!
URL:https://hungariancouncilnsw.com.au/hu/event/mothers-day-celebration-at-dmsz/
LOCATION:Délvidéki Magyar Klub\, 31 Glendenning Road\, Glendenning\, NSW\, 2761\, Australia
ATTACH;FMTTYPE=image/jpeg:https://hungariancouncilnsw.com.au/wp-content/uploads/2026/04/pxesx3krunc.jpg
END:VEVENT
BEGIN:VEVENT
DTSTART;TZID=Australia/Sydney:20260506T140000
DTEND;TZID=Australia/Sydney:20260506T150000
DTSTAMP:20260425T060550
CREATED:20260323T043618Z
LAST-MODIFIED:20260324T045902Z
UID:10000794-1778076000-1778079600@hungariancouncilnsw.com.au
SUMMARY:Bible Study
DESCRIPTION:Join us for Bible Studies every Wednesday with the Sydney Református Egyház at 2 pm.
URL:https://hungariancouncilnsw.com.au/hu/event/bible-study/2026-05-06/
LOCATION:St Elizabeth Home\, 1 Symonds Road\, Dean Park\, NSW\, 2761\, Australia
CATEGORIES:Church,Social Event
ATTACH;FMTTYPE=image/jpeg:https://hungariancouncilnsw.com.au/wp-content/uploads/2026/03/l4gw27xzn1i.jpg
ORGANIZER;CN="Sydney Magyar Reform%C3%A1tus Egyh%C3%A1z":MAILTO:mresydney@yahoo.com.au
END:VEVENT
BEGIN:VEVENT
DTSTART;TZID=Australia/Sydney:20260506T193000
DTEND;TZID=Australia/Sydney:20260506T213000
DTSTAMP:20260425T060550
CREATED:20260323T044323Z
LAST-MODIFIED:20260324T045518Z
UID:10002100-1778095800-1778103000@hungariancouncilnsw.com.au
SUMMARY:Kengugró Dance lessons
DESCRIPTION:Join us for the Kungugró dance lessons every Wednesday at 7:30pm at Clemton Hall\, corner of Miller St and Dunkirk Ave\, Kingsgrove.  \n\n\n\nDrinks at the Bexley North Hotel afterwards.
URL:https://hungariancouncilnsw.com.au/hu/event/kengugro-dance-lessons/2026-05-06/
LOCATION:Clemton Park Uniting Church Hall\, 2-6 Dunkirk Ave\, Kingsgrove\, NSW\, 2208\, Australia
ATTACH;FMTTYPE=image/jpeg:https://hungariancouncilnsw.com.au/wp-content/uploads/2026/03/vlu1gktcbek.jpg
ORGANIZER;CN="Kengugr%C3%B3 T%C3%A1nccsoport":MAILTO:kengugro@hotmail.com
END:VEVENT
BEGIN:VEVENT
DTSTART;TZID=Australia/Sydney:20260509T140000
DTEND;TZID=Australia/Sydney:20260509T170000
DTSTAMP:20260425T060550
CREATED:20260415T035605Z
LAST-MODIFIED:20260415T035605Z
UID:10002696-1778335200-1778346000@hungariancouncilnsw.com.au
SUMMARY:Scout Activity
DESCRIPTION:Join us and bring your children for a Hungarian Scout Activity afternoon.  \n\n\n\nFor any inquiry\, please write to 3066cserkesz@gmail.com
URL:https://hungariancouncilnsw.com.au/hu/event/scout-activity/2026-05-09/
LOCATION:Scout Hall Central Park – Concord\, Wellbank St\, Concord\, NSW\, 2137\, Australia
ATTACH;FMTTYPE=image/jpeg:https://hungariancouncilnsw.com.au/wp-content/uploads/2026/03/7rimz-goqfq.jpg
ORGANIZER;CN="Hungarian Scouts Sydney":MAILTO:3066cserkesz@gmail.com
END:VEVENT
BEGIN:VEVENT
DTSTART;TZID=Australia/Sydney:20260510T080000
DTEND;TZID=Australia/Sydney:20260510T170000
DTSTAMP:20260425T060550
CREATED:20260414T060404Z
LAST-MODIFIED:20260414T060407Z
UID:10002434-1778400000-1778432400@hungariancouncilnsw.com.au
SUMMARY:Radio Mozaik Sydney
DESCRIPTION:The Hungarian Radio Mozaik Sydney’s program can be heard live every Sunday from 11:00 a.m. to 1:00 p.m. on 2RRR FM 88.5 in Sydney or online. \n\n\n\nLIVE BROADCAST HERE: 2rrr.org.au \n\n\n\nFor more information\, please visit https://www.radiomozaiksydney.com.au/
URL:https://hungariancouncilnsw.com.au/hu/event/radio-mozaik-sydney/2026-05-10/
LOCATION:Radio Mozaik Sydney\, Hungarian Program 2RRR\, PO BOX 644\, Gladesville\, Sydney\, NSW\, 1675\, Australia
ATTACH;FMTTYPE=image/jpeg:https://hungariancouncilnsw.com.au/wp-content/uploads/2026/04/radio.jpg
ORGANIZER;CN="Radio Mozaik Sydney":MAILTO:sydneyradiomozaik@gmail.com
END:VEVENT
BEGIN:VEVENT
DTSTART;TZID=Australia/Sydney:20260510T110000
DTEND;TZID=Australia/Sydney:20260510T120000
DTSTAMP:20260425T060550
CREATED:20260323T013401Z
LAST-MODIFIED:20260324T044600Z
UID:10000272-1778410800-1778414400@hungariancouncilnsw.com.au
SUMMARY:Catholic Holy Mass
DESCRIPTION:Join us for the Holy Mass held by the Catholic Community at St Elizabeth Home every Sunday at 11 am.
URL:https://hungariancouncilnsw.com.au/hu/event/830/2026-05-10/
LOCATION:St Elizabeth Home\, 1 Symonds Road\, Dean Park\, NSW\, 2761\, Australia
CATEGORIES:Church
ATTACH;FMTTYPE=image/jpeg:https://hungariancouncilnsw.com.au/wp-content/uploads/2026/03/61rbb5nxuuw.jpg
END:VEVENT
BEGIN:VEVENT
DTSTART;TZID=Australia/Sydney:20260510T113000
DTEND;TZID=Australia/Sydney:20260510T123000
DTSTAMP:20260425T060550
CREATED:20260323T043112Z
LAST-MODIFIED:20260324T045104Z
UID:10000533-1778412600-1778416200@hungariancouncilnsw.com.au
SUMMARY:Reformed Church Worship Service
DESCRIPTION:Join us for a Worship Service with the Sydney Hungarian Reformed Church every Sunday at 11:30 am.
URL:https://hungariancouncilnsw.com.au/hu/event/reformed-church-worship-service/2026-05-10/
LOCATION:Uniting Church Strathfield\, 11 Carrington Avenue\, Strathfield\, NSW\, 2135\, Australia
CATEGORIES:Church
ATTACH;FMTTYPE=image/jpeg:https://hungariancouncilnsw.com.au/wp-content/uploads/2026/03/d6a2yzt-jwo.jpg
ORGANIZER;CN="Sydney Magyar Reform%C3%A1tus Egyh%C3%A1z":MAILTO:mresydney@yahoo.com.au
END:VEVENT
BEGIN:VEVENT
DTSTART;TZID=Australia/Sydney:20260513T140000
DTEND;TZID=Australia/Sydney:20260513T150000
DTSTAMP:20260425T060550
CREATED:20260323T043618Z
LAST-MODIFIED:20260324T045902Z
UID:10000795-1778680800-1778684400@hungariancouncilnsw.com.au
SUMMARY:Bible Study
DESCRIPTION:Join us for Bible Studies every Wednesday with the Sydney Református Egyház at 2 pm.
URL:https://hungariancouncilnsw.com.au/hu/event/bible-study/2026-05-13/
LOCATION:St Elizabeth Home\, 1 Symonds Road\, Dean Park\, NSW\, 2761\, Australia
CATEGORIES:Church,Social Event
ATTACH;FMTTYPE=image/jpeg:https://hungariancouncilnsw.com.au/wp-content/uploads/2026/03/l4gw27xzn1i.jpg
ORGANIZER;CN="Sydney Magyar Reform%C3%A1tus Egyh%C3%A1z":MAILTO:mresydney@yahoo.com.au
END:VEVENT
BEGIN:VEVENT
DTSTART;TZID=Australia/Sydney:20260513T193000
DTEND;TZID=Australia/Sydney:20260513T213000
DTSTAMP:20260425T060550
CREATED:20260323T044323Z
LAST-MODIFIED:20260324T045518Z
UID:10002101-1778700600-1778707800@hungariancouncilnsw.com.au
SUMMARY:Kengugró Dance lessons
DESCRIPTION:Join us for the Kungugró dance lessons every Wednesday at 7:30pm at Clemton Hall\, corner of Miller St and Dunkirk Ave\, Kingsgrove.  \n\n\n\nDrinks at the Bexley North Hotel afterwards.
URL:https://hungariancouncilnsw.com.au/hu/event/kengugro-dance-lessons/2026-05-13/
LOCATION:Clemton Park Uniting Church Hall\, 2-6 Dunkirk Ave\, Kingsgrove\, NSW\, 2208\, Australia
ATTACH;FMTTYPE=image/jpeg:https://hungariancouncilnsw.com.au/wp-content/uploads/2026/03/vlu1gktcbek.jpg
ORGANIZER;CN="Kengugr%C3%B3 T%C3%A1nccsoport":MAILTO:kengugro@hotmail.com
END:VEVENT
BEGIN:VEVENT
DTSTART;TZID=Australia/Sydney:20260516T090000
DTEND;TZID=Australia/Sydney:20260516T120000
DTSTAMP:20260425T060550
CREATED:20260415T040329Z
LAST-MODIFIED:20260415T040329Z
UID:10002713-1778922000-1778932800@hungariancouncilnsw.com.au
SUMMARY:Hungarian School
DESCRIPTION:Join us and bring your children for a Saturday morning spent with the Hungarian School.  \n\n\n\nFor any inquiries\, pleace contact info@magyariskola.com.au
URL:https://hungariancouncilnsw.com.au/hu/event/hungarian-school/2026-05-16/
LOCATION:Homebush West Public School\, 20 Exeter Rd\, Homebush West\, NSW\, 2140\, Australia
ATTACH;FMTTYPE=image/jpeg:https://hungariancouncilnsw.com.au/wp-content/uploads/2026/03/suli9-1.jpg
ORGANIZER;CN="Hungarian School Sydney":MAILTO:info@magyariskola.com.au
END:VEVENT
BEGIN:VEVENT
DTSTART;TZID=Australia/Sydney:20260517T080000
DTEND;TZID=Australia/Sydney:20260517T170000
DTSTAMP:20260425T060550
CREATED:20260414T060404Z
LAST-MODIFIED:20260414T060407Z
UID:10002435-1779004800-1779037200@hungariancouncilnsw.com.au
SUMMARY:Radio Mozaik Sydney
DESCRIPTION:The Hungarian Radio Mozaik Sydney’s program can be heard live every Sunday from 11:00 a.m. to 1:00 p.m. on 2RRR FM 88.5 in Sydney or online. \n\n\n\nLIVE BROADCAST HERE: 2rrr.org.au \n\n\n\nFor more information\, please visit https://www.radiomozaiksydney.com.au/
URL:https://hungariancouncilnsw.com.au/hu/event/radio-mozaik-sydney/2026-05-17/
LOCATION:Radio Mozaik Sydney\, Hungarian Program 2RRR\, PO BOX 644\, Gladesville\, Sydney\, NSW\, 1675\, Australia
ATTACH;FMTTYPE=image/jpeg:https://hungariancouncilnsw.com.au/wp-content/uploads/2026/04/radio.jpg
ORGANIZER;CN="Radio Mozaik Sydney":MAILTO:sydneyradiomozaik@gmail.com
END:VEVENT
BEGIN:VEVENT
DTSTART;TZID=Australia/Sydney:20260517T110000
DTEND;TZID=Australia/Sydney:20260517T120000
DTSTAMP:20260425T060550
CREATED:20260323T013401Z
LAST-MODIFIED:20260324T044600Z
UID:10000273-1779015600-1779019200@hungariancouncilnsw.com.au
SUMMARY:Catholic Holy Mass
DESCRIPTION:Join us for the Holy Mass held by the Catholic Community at St Elizabeth Home every Sunday at 11 am.
URL:https://hungariancouncilnsw.com.au/hu/event/830/2026-05-17/
LOCATION:St Elizabeth Home\, 1 Symonds Road\, Dean Park\, NSW\, 2761\, Australia
CATEGORIES:Church
ATTACH;FMTTYPE=image/jpeg:https://hungariancouncilnsw.com.au/wp-content/uploads/2026/03/61rbb5nxuuw.jpg
END:VEVENT
BEGIN:VEVENT
DTSTART;TZID=Australia/Sydney:20260517T113000
DTEND;TZID=Australia/Sydney:20260517T123000
DTSTAMP:20260425T060550
CREATED:20260323T043112Z
LAST-MODIFIED:20260324T045104Z
UID:10000534-1779017400-1779021000@hungariancouncilnsw.com.au
SUMMARY:Reformed Church Worship Service
DESCRIPTION:Join us for a Worship Service with the Sydney Hungarian Reformed Church every Sunday at 11:30 am.
URL:https://hungariancouncilnsw.com.au/hu/event/reformed-church-worship-service/2026-05-17/
LOCATION:Uniting Church Strathfield\, 11 Carrington Avenue\, Strathfield\, NSW\, 2135\, Australia
CATEGORIES:Church
ATTACH;FMTTYPE=image/jpeg:https://hungariancouncilnsw.com.au/wp-content/uploads/2026/03/d6a2yzt-jwo.jpg
ORGANIZER;CN="Sydney Magyar Reform%C3%A1tus Egyh%C3%A1z":MAILTO:mresydney@yahoo.com.au
END:VEVENT
BEGIN:VEVENT
DTSTART;TZID=Australia/Sydney:20260520T140000
DTEND;TZID=Australia/Sydney:20260520T150000
DTSTAMP:20260425T060550
CREATED:20260323T043618Z
LAST-MODIFIED:20260324T045902Z
UID:10000796-1779285600-1779289200@hungariancouncilnsw.com.au
SUMMARY:Bible Study
DESCRIPTION:Join us for Bible Studies every Wednesday with the Sydney Református Egyház at 2 pm.
URL:https://hungariancouncilnsw.com.au/hu/event/bible-study/2026-05-20/
LOCATION:St Elizabeth Home\, 1 Symonds Road\, Dean Park\, NSW\, 2761\, Australia
CATEGORIES:Church,Social Event
ATTACH;FMTTYPE=image/jpeg:https://hungariancouncilnsw.com.au/wp-content/uploads/2026/03/l4gw27xzn1i.jpg
ORGANIZER;CN="Sydney Magyar Reform%C3%A1tus Egyh%C3%A1z":MAILTO:mresydney@yahoo.com.au
END:VEVENT
BEGIN:VEVENT
DTSTART;TZID=Australia/Sydney:20260520T193000
DTEND;TZID=Australia/Sydney:20260520T213000
DTSTAMP:20260425T060550
CREATED:20260323T044323Z
LAST-MODIFIED:20260324T045518Z
UID:10002102-1779305400-1779312600@hungariancouncilnsw.com.au
SUMMARY:Kengugró Dance lessons
DESCRIPTION:Join us for the Kungugró dance lessons every Wednesday at 7:30pm at Clemton Hall\, corner of Miller St and Dunkirk Ave\, Kingsgrove.  \n\n\n\nDrinks at the Bexley North Hotel afterwards.
URL:https://hungariancouncilnsw.com.au/hu/event/kengugro-dance-lessons/2026-05-20/
LOCATION:Clemton Park Uniting Church Hall\, 2-6 Dunkirk Ave\, Kingsgrove\, NSW\, 2208\, Australia
ATTACH;FMTTYPE=image/jpeg:https://hungariancouncilnsw.com.au/wp-content/uploads/2026/03/vlu1gktcbek.jpg
ORGANIZER;CN="Kengugr%C3%B3 T%C3%A1nccsoport":MAILTO:kengugro@hotmail.com
END:VEVENT
BEGIN:VEVENT
DTSTART;TZID=Australia/Sydney:20260523T090000
DTEND;TZID=Australia/Sydney:20260523T120000
DTSTAMP:20260425T060550
CREATED:20260415T040329Z
LAST-MODIFIED:20260415T040329Z
UID:10002714-1779526800-1779537600@hungariancouncilnsw.com.au
SUMMARY:Hungarian School
DESCRIPTION:Join us and bring your children for a Saturday morning spent with the Hungarian School.  \n\n\n\nFor any inquiries\, pleace contact info@magyariskola.com.au
URL:https://hungariancouncilnsw.com.au/hu/event/hungarian-school/2026-05-23/
LOCATION:Homebush West Public School\, 20 Exeter Rd\, Homebush West\, NSW\, 2140\, Australia
ATTACH;FMTTYPE=image/jpeg:https://hungariancouncilnsw.com.au/wp-content/uploads/2026/03/suli9-1.jpg
ORGANIZER;CN="Hungarian School Sydney":MAILTO:info@magyariskola.com.au
END:VEVENT
BEGIN:VEVENT
DTSTART;TZID=Australia/Sydney:20260523T140000
DTEND;TZID=Australia/Sydney:20260523T170000
DTSTAMP:20260425T060550
CREATED:20260415T035605Z
LAST-MODIFIED:20260415T035605Z
UID:10002697-1779544800-1779555600@hungariancouncilnsw.com.au
SUMMARY:Scout Activity
DESCRIPTION:Join us and bring your children for a Hungarian Scout Activity afternoon.  \n\n\n\nFor any inquiry\, please write to 3066cserkesz@gmail.com
URL:https://hungariancouncilnsw.com.au/hu/event/scout-activity/2026-05-23/
LOCATION:Scout Hall Central Park – Concord\, Wellbank St\, Concord\, NSW\, 2137\, Australia
ATTACH;FMTTYPE=image/jpeg:https://hungariancouncilnsw.com.au/wp-content/uploads/2026/03/7rimz-goqfq.jpg
ORGANIZER;CN="Hungarian Scouts Sydney":MAILTO:3066cserkesz@gmail.com
END:VEVENT
BEGIN:VEVENT
DTSTART;TZID=Australia/Sydney:20260524T080000
DTEND;TZID=Australia/Sydney:20260524T170000
DTSTAMP:20260425T060551
CREATED:20260414T060404Z
LAST-MODIFIED:20260414T060407Z
UID:10002436-1779609600-1779642000@hungariancouncilnsw.com.au
SUMMARY:Radio Mozaik Sydney
DESCRIPTION:The Hungarian Radio Mozaik Sydney’s program can be heard live every Sunday from 11:00 a.m. to 1:00 p.m. on 2RRR FM 88.5 in Sydney or online. \n\n\n\nLIVE BROADCAST HERE: 2rrr.org.au \n\n\n\nFor more information\, please visit https://www.radiomozaiksydney.com.au/
URL:https://hungariancouncilnsw.com.au/hu/event/radio-mozaik-sydney/2026-05-24/
LOCATION:Radio Mozaik Sydney\, Hungarian Program 2RRR\, PO BOX 644\, Gladesville\, Sydney\, NSW\, 1675\, Australia
ATTACH;FMTTYPE=image/jpeg:https://hungariancouncilnsw.com.au/wp-content/uploads/2026/04/radio.jpg
ORGANIZER;CN="Radio Mozaik Sydney":MAILTO:sydneyradiomozaik@gmail.com
END:VEVENT
END:VCALENDAR